BEGIN:VCALENDAR
VERSION:2.0
PRODID:-//Bürgerbündnis - Stadt und Land e.V.//DE
CALSCALE:GREGORIAN
METHOD:PUBLISH
BEGIN:VEVENT
UID:20241018-gruendungsveranstaltung@www.buergerbuendnis.de
DTSTAMP:20260130T162302Z
DTSTART:20241018T170000Z
DTEND:20241018T190000Z
SUMMARY:Gründungsveranstaltung des Vereins Bürgerbündnis Stadt & Land e.V.
DESCRIPTION:Veranstaltung zur Gründung des Vereins Bürgerbündnis Stadt & Land e.V.
LOCATION:Bürgersaal Wassertrüdingen
URL:https://www.buergerbuendnis.de/veranstaltungen/2024-10-18-gruendungsveranstaltung/
END:VEVENT
END:VCALENDAR