BEGIN:VCALENDAR
VERSION:2.0
PRODID:-//Bürgerbündnis - Stadt und Land e.V.//DE
CALSCALE:GREGORIAN
METHOD:PUBLISH
BEGIN:VEVENT
UID:20250520-infoabend-kommunalwahl-2026@www.buergerbuendnis.de
DTSTAMP:20260130T162302Z
DTSTART:20250520T170000Z
DTEND:20250520T190000Z
SUMMARY:Infoveranstaltung der Entwicklungsregion Hesselberg zur Kommunalwahl 2026
DESCRIPTION:Infoabend zum Engagement in der Kommunalpolitik
LOCATION:EBZ Hesselberg
URL:https://www.buergerbuendnis.de/veranstaltungen/2025-05-20-infoabend-kommunalwahl-2026/
END:VEVENT
END:VCALENDAR