BEGIN:VCALENDAR
VERSION:2.0
PRODID:-//Bürgerbündnis - Stadt und Land e.V.//DE
CALSCALE:GREGORIAN
METHOD:PUBLISH
BEGIN:VEVENT
UID:20250521-mitgliederversammlung@www.buergerbuendnis.de
DTSTAMP:20260130T162302Z
DTSTART:20250521T170000Z
DTEND:20250521T200000Z
SUMMARY:Mitgliederversammlung
DESCRIPTION:Mitgliederversammlung zu Ideen und Plänen zur Kommunalwahl 2026
LOCATION:Mehrgenerationenhaus Schobdach\, Schobdach 31B\, 91717 Wassertrüdingen
URL:https://www.buergerbuendnis.de/veranstaltungen/2025-05-21-mitgliederversammlung/
END:VEVENT
END:VCALENDAR