BEGIN:VCALENDAR
VERSION:2.0
PRODID:-//Bürgerbündnis - Stadt und Land e.V.//DE
CALSCALE:GREGORIAN
METHOD:PUBLISH
BEGIN:VEVENT
UID:20251017-nominierungsversammlung@www.buergerbuendnis.de
DTSTAMP:20260130T162302Z
DTSTART:20251017T170000Z
DTEND:20251017T200000Z
SUMMARY:Mitgliederversammlung mit Nominierung des Bürgermeisterkandidaten und zur Aufstellung der Stadtratsliste
DESCRIPTION:Mitgliederversammlung mit Nominierung des Bürgermeisterkandidaten und zur Aufstellung der Stadtratsliste
LOCATION:Gasthaus Ebert\, Altentrüdingen 34\, 91717 Wassertrüdingen
URL:https://www.buergerbuendnis.de/veranstaltungen/2025-10-17-mitgliederversammlung-nominierung/
END:VEVENT
END:VCALENDAR