BEGIN:VCALENDAR
VERSION:2.0
PRODID:-//Bürgerbündnis - Stadt und Land e.V.//DE
CALSCALE:GREGORIAN
METHOD:PUBLISH
BEGIN:VEVENT
UID:20260103-kandidatenvorstellung-fuernheim@www.buergerbuendnis.de
DTSTAMP:20260130T162302Z
DTSTART:20260103T183000Z
DTEND:20260103T203000Z
SUMMARY:Bürgerbündnis – Kandidaten- und Wahlprogrammvorstellung Fürnheim
DESCRIPTION:Infoveranstaltung zu unseren Kandidaten und unserem Wahlprogramm in Fürnheim
LOCATION:Forstquell-Brauerei\, Fürnheim 35\, 91717 Wassertrüdingen
URL:https://www.buergerbuendnis.de/veranstaltungen/2026-01-03-kandidatenvorstellung-f%C3%BCrnheim/
END:VEVENT
END:VCALENDAR