BEGIN:VCALENDAR
VERSION:2.0
PRODID:-//Bürgerbündnis - Stadt und Land e.V.//DE
CALSCALE:GREGORIAN
METHOD:PUBLISH
BEGIN:VEVENT
UID:20260116-kandidatenvorstellung-wassertruedingen@www.buergerbuendnis.de
DTSTAMP:20260130T162302Z
DTSTART:20260116T183000Z
DTEND:20260116T203000Z
SUMMARY:Bürgerbündnis – Kandidaten- und Wahlprogrammvorstellung Wassertrüdingen
DESCRIPTION:Infoveranstaltung zu unseren Kandidaten und unserem Wahlprogramm in Wassertrüdigen
LOCATION:Bürgersaal\, Kirchgasse\, 91717 Wassertrüdingen
URL:https://www.buergerbuendnis.de/veranstaltungen/2026-01-16-kandidatenvorstellung-wassertruedingen/
END:VEVENT
END:VCALENDAR