BEGIN:VCALENDAR
VERSION:2.0
PRODID:-//Bürgerbündnis - Stadt und Land e.V.//DE
CALSCALE:GREGORIAN
METHOD:PUBLISH
BEGIN:VEVENT
UID:20260121-kandidatenvorstellung-reichenbach@www.buergerbuendnis.de
DTSTAMP:20260130T162302Z
DTSTART:20260121T183000Z
DTEND:20260121T203000Z
SUMMARY:Bürgerbündnis – Kandidaten- und Wahlprogrammvorstellung Reichenbach
DESCRIPTION:Infoveranstaltung zu unseren Kandidaten und unserem Wahlprogramm in Reichenbach
LOCATION:Feuerwehrhaus\, Reichenbach 13\, 91717 Wassertrüdingen
URL:https://www.buergerbuendnis.de/veranstaltungen/2026-01-21-kandidatenvorstellung-reichenbach/
END:VEVENT
END:VCALENDAR