BEGIN:VCALENDAR
VERSION:2.0
PRODID:-//Bürgerbündnis - Stadt und Land e.V.//DE
CALSCALE:GREGORIAN
METHOD:PUBLISH
BEGIN:VEVENT
UID:20260204-kandidatenvorstellung-schobdach@www.buergerbuendnis.de
DTSTAMP:20260130T162302Z
DTSTART:20260204T183000Z
DTEND:20260204T203000Z
SUMMARY:Bürgerbündnis – Kandidaten- und Wahlprogrammvorstellung Schobdach
DESCRIPTION:Infoveranstaltung zu unseren Kandidaten und unserem Wahlprogramm in Schobdach
LOCATION:Mehrgenerationenhaus Schobdach\, Schobdach 58a\, 91717 Wassertrüdingen
URL:https://www.buergerbuendnis.de/veranstaltungen/2026-02-04-kandidatenvorstellung-schobdach/
END:VEVENT
END:VCALENDAR