BEGIN:VCALENDAR
VERSION:2.0
PRODID:-//Bürgerbündnis - Stadt und Land e.V.//DE
CALSCALE:GREGORIAN
METHOD:PUBLISH
BEGIN:VEVENT
UID:20260206-kandidatenvorstellung-obermoegersheim@www.buergerbuendnis.de
DTSTAMP:20260130T162302Z
DTSTART:20260206T183000Z
DTEND:20260206T203000Z
SUMMARY:Bürgerbündnis – Kandidaten- und Wahlprogrammvorstellung Obermögersheim
DESCRIPTION:Infoveranstaltung zu unseren Kandidaten und unserem Wahlprogramm in Obermögersheim
LOCATION:Gasthaus zum Brui\, Obermögersheim 138\, 91717 Wassertrüdingen
URL:https://www.buergerbuendnis.de/veranstaltungen/2026-02-06-kandidatenvorstellung-obermoegersheim/
END:VEVENT
END:VCALENDAR