BEGIN:VCALENDAR
VERSION:2.0
PRODID:-//Bürgerbündnis - Stadt und Land e.V.//DE
CALSCALE:GREGORIAN
METHOD:PUBLISH
BEGIN:VEVENT
UID:20260212-kandidatenvorstellung-altentruedingen@www.buergerbuendnis.de
DTSTAMP:20260130T162302Z
DTSTART:20260212T183000Z
DTEND:20260212T203000Z
SUMMARY:Bürgerbündnis – Kandidaten- und Wahlprogrammvorstellung Altentrüdingen
DESCRIPTION:Infoveranstaltung zu unseren Kandidaten und unserem Wahlprogramm in Altentrüdingen
LOCATION:Gasthaus Ebert\, Altentrüdingen 34\, 91717 Wassertrüdingen
URL:https://www.buergerbuendnis.de/veranstaltungen/2026-02-12-kandidatenvorstellung-altentruedingen/
END:VEVENT
END:VCALENDAR